BEGIN:VCALENDAR
VERSION:2.0
PRODID:-//VV SJC - ECPv6.15.20//NONSGML v1.0//EN
CALSCALE:GREGORIAN
METHOD:PUBLISH
X-ORIGINAL-URL:https://vvsjc.nl
X-WR-CALDESC:Evenementen voor VV SJC
REFRESH-INTERVAL;VALUE=DURATION:PT1H
X-Robots-Tag:noindex
X-PUBLISHED-TTL:PT1H
BEGIN:VTIMEZONE
TZID:Europe/Amsterdam
BEGIN:DAYLIGHT
TZOFFSETFROM:+0100
TZOFFSETTO:+0200
TZNAME:CEST
DTSTART:20250330T010000
END:DAYLIGHT
BEGIN:STANDARD
TZOFFSETFROM:+0200
TZOFFSETTO:+0100
TZNAME:CET
DTSTART:20251026T010000
END:STANDARD
BEGIN:DAYLIGHT
TZOFFSETFROM:+0100
TZOFFSETTO:+0200
TZNAME:CEST
DTSTART:20260329T010000
END:DAYLIGHT
BEGIN:STANDARD
TZOFFSETFROM:+0200
TZOFFSETTO:+0100
TZNAME:CET
DTSTART:20261025T010000
END:STANDARD
BEGIN:DAYLIGHT
TZOFFSETFROM:+0100
TZOFFSETTO:+0200
TZNAME:CEST
DTSTART:20270328T010000
END:DAYLIGHT
BEGIN:STANDARD
TZOFFSETFROM:+0200
TZOFFSETTO:+0100
TZNAME:CET
DTSTART:20271031T010000
END:STANDARD
END:VTIMEZONE
BEGIN:VEVENT
DTSTART;VALUE=DATE:20260613
DTEND;VALUE=DATE:20260614
DTSTAMP:20260419T145825
CREATED:20260114T135412Z
LAST-MODIFIED:20260114T135412Z
UID:6788-1781308800-1781395199@vvsjc.nl
SUMMARY:SJC Festival
DESCRIPTION:
URL:https://vvsjc.nl/event/sjc-festival/
END:VEVENT
BEGIN:VEVENT
DTSTART;VALUE=DATE:20260617
DTEND;VALUE=DATE:20260618
DTSTAMP:20260419T145825
CREATED:20251203T153710Z
LAST-MODIFIED:20251203T153710Z
UID:6521-1781654400-1781740799@vvsjc.nl
SUMMARY:4 tegen 4 toernooi
DESCRIPTION:
URL:https://vvsjc.nl/event/4-tegen-4-toernooi-2/
LOCATION:SJC
END:VEVENT
BEGIN:VEVENT
DTSTART;VALUE=DATE:20260626
DTEND;VALUE=DATE:20260629
DTSTAMP:20260419T145825
CREATED:20251203T153850Z
LAST-MODIFIED:20251203T153916Z
UID:6523-1782432000-1782691199@vvsjc.nl
SUMMARY:Snurkfestijn JO8-JO9
DESCRIPTION:
URL:https://vvsjc.nl/event/snurkfestijn-2/
LOCATION:SJC
END:VEVENT
END:VCALENDAR