BEGIN:VCALENDAR
VERSION:2.0
PRODID:-//VV SJC - ECPv6.15.20//NONSGML v1.0//EN
CALSCALE:GREGORIAN
METHOD:PUBLISH
X-WR-CALNAME:VV SJC
X-ORIGINAL-URL:https://vvsjc.nl
X-WR-CALDESC:Evenementen voor VV SJC
REFRESH-INTERVAL;VALUE=DURATION:PT1H
X-Robots-Tag:noindex
X-PUBLISHED-TTL:PT1H
BEGIN:VTIMEZONE
TZID:Europe/Amsterdam
BEGIN:DAYLIGHT
TZOFFSETFROM:+0100
TZOFFSETTO:+0200
TZNAME:CEST
DTSTART:20240331T010000
END:DAYLIGHT
BEGIN:STANDARD
TZOFFSETFROM:+0200
TZOFFSETTO:+0100
TZNAME:CET
DTSTART:20241027T010000
END:STANDARD
BEGIN:DAYLIGHT
TZOFFSETFROM:+0100
TZOFFSETTO:+0200
TZNAME:CEST
DTSTART:20250330T010000
END:DAYLIGHT
BEGIN:STANDARD
TZOFFSETFROM:+0200
TZOFFSETTO:+0100
TZNAME:CET
DTSTART:20251026T010000
END:STANDARD
BEGIN:DAYLIGHT
TZOFFSETFROM:+0100
TZOFFSETTO:+0200
TZNAME:CEST
DTSTART:20260329T010000
END:DAYLIGHT
BEGIN:STANDARD
TZOFFSETFROM:+0200
TZOFFSETTO:+0100
TZNAME:CET
DTSTART:20261025T010000
END:STANDARD
END:VTIMEZONE
BEGIN:VEVENT
DTSTART;TZID=Europe/Amsterdam:20251101T143000
DTEND;TZID=Europe/Amsterdam:20251101T183000
DTSTAMP:20260419T170441
CREATED:20250819T093151Z
LAST-MODIFIED:20250819T093151Z
UID:5866-1762007400-1762021800@vvsjc.nl
SUMMARY:S.J.C. - Hoofddorp Bestuursdienst: Lennart / Harry
DESCRIPTION:
URL:https://vvsjc.nl/event/s-j-c-hoofddorp-bestuursdienst-lennart-harry/
LOCATION:SJC
END:VEVENT
BEGIN:VEVENT
DTSTART;TZID=Europe/Amsterdam:20251101T163000
DTEND;TZID=Europe/Amsterdam:20251101T190000
DTSTAMP:20260419T170441
CREATED:20251015T075025Z
LAST-MODIFIED:20251015T075025Z
UID:6240-1762014600-1762023600@vvsjc.nl
SUMMARY:S.J.C. Middagje Bollenstreek
DESCRIPTION:
URL:https://vvsjc.nl/event/s-j-c-middagje-bollenstreek/
LOCATION:SJC
END:VEVENT
BEGIN:VEVENT
DTSTART;TZID=Europe/Amsterdam:20251103T200000
DTEND;TZID=Europe/Amsterdam:20251103T230000
DTSTAMP:20260419T170441
CREATED:20250819T092649Z
LAST-MODIFIED:20250819T092649Z
UID:5856-1762200000-1762210800@vvsjc.nl
SUMMARY:Bestuursvergadering
DESCRIPTION:
URL:https://vvsjc.nl/event/bestuursvergadering-7/
LOCATION:SJC
END:VEVENT
BEGIN:VEVENT
DTSTART;TZID=Europe/Amsterdam:20251114T193000
DTEND;TZID=Europe/Amsterdam:20251114T233000
DTSTAMP:20260419T170441
CREATED:20250819T101754Z
LAST-MODIFIED:20251106T193319Z
UID:5868-1763148600-1763163000@vvsjc.nl
SUMMARY:Kaderfeest
DESCRIPTION:
URL:https://vvsjc.nl/event/kaderfeest/
LOCATION:SJC
END:VEVENT
BEGIN:VEVENT
DTSTART;TZID=Europe/Amsterdam:20251115T143000
DTEND;TZID=Europe/Amsterdam:20251115T183000
DTSTAMP:20260419T170441
CREATED:20250819T093459Z
LAST-MODIFIED:20251106T193205Z
UID:5870-1763217000-1763231400@vvsjc.nl
SUMMARY:S.J.C. - SWIFT Bestuursdienst
DESCRIPTION:
URL:https://vvsjc.nl/event/s-j-c-swift-bestuursdienst-wouter-jan/
LOCATION:SJC
END:VEVENT
END:VCALENDAR