BEGIN:VCALENDAR
VERSION:2.0
PRODID:-//VV SJC - ECPv6.15.20//NONSGML v1.0//EN
CALSCALE:GREGORIAN
METHOD:PUBLISH
X-ORIGINAL-URL:https://vvsjc.nl
X-WR-CALDESC:Evenementen voor VV SJC
REFRESH-INTERVAL;VALUE=DURATION:PT1H
X-Robots-Tag:noindex
X-PUBLISHED-TTL:PT1H
BEGIN:VTIMEZONE
TZID:Europe/Amsterdam
BEGIN:DAYLIGHT
TZOFFSETFROM:+0100
TZOFFSETTO:+0200
TZNAME:CEST
DTSTART:20240331T010000
END:DAYLIGHT
BEGIN:STANDARD
TZOFFSETFROM:+0200
TZOFFSETTO:+0100
TZNAME:CET
DTSTART:20241027T010000
END:STANDARD
BEGIN:DAYLIGHT
TZOFFSETFROM:+0100
TZOFFSETTO:+0200
TZNAME:CEST
DTSTART:20250330T010000
END:DAYLIGHT
BEGIN:STANDARD
TZOFFSETFROM:+0200
TZOFFSETTO:+0100
TZNAME:CET
DTSTART:20251026T010000
END:STANDARD
BEGIN:DAYLIGHT
TZOFFSETFROM:+0100
TZOFFSETTO:+0200
TZNAME:CEST
DTSTART:20260329T010000
END:DAYLIGHT
BEGIN:STANDARD
TZOFFSETFROM:+0200
TZOFFSETTO:+0100
TZNAME:CET
DTSTART:20261025T010000
END:STANDARD
END:VTIMEZONE
BEGIN:VEVENT
DTSTART;TZID=Europe/Amsterdam:20250301T140000
DTEND;TZID=Europe/Amsterdam:20250301T170000
DTSTAMP:20260420T061022
CREATED:20250225T155620Z
LAST-MODIFIED:20250225T155620Z
UID:4819-1740837600-1740848400@vvsjc.nl
SUMMARY:Jeugdcarnaval
DESCRIPTION:
URL:https://vvsjc.nl/event/jeugdcarnaval/
LOCATION:SJC
END:VEVENT
BEGIN:VEVENT
DTSTART;TZID=Europe/Amsterdam:20250315T150000
DTEND;TZID=Europe/Amsterdam:20250315T190000
DTSTAMP:20260420T061022
CREATED:20250225T160944Z
LAST-MODIFIED:20250225T160944Z
UID:4835-1742050800-1742065200@vvsjc.nl
SUMMARY:Noortukse middag
DESCRIPTION:
URL:https://vvsjc.nl/event/noortukse-middag/
LOCATION:SJC
END:VEVENT
BEGIN:VEVENT
DTSTART;TZID=Europe/Amsterdam:20250321T180000
DTEND;TZID=Europe/Amsterdam:20250321T223000
DTSTAMP:20260420T061022
CREATED:20241127T201846Z
LAST-MODIFIED:20241127T202255Z
UID:4392-1742580000-1742596200@vvsjc.nl
SUMMARY:Lente-avond
DESCRIPTION:
URL:https://vvsjc.nl/event/lente-avond/
LOCATION:SJC
END:VEVENT
END:VCALENDAR