BEGIN:VCALENDAR
VERSION:2.0
PRODID:-//VV SJC - ECPv6.15.20//NONSGML v1.0//EN
CALSCALE:GREGORIAN
METHOD:PUBLISH
X-WR-CALNAME:VV SJC
X-ORIGINAL-URL:https://vvsjc.nl
X-WR-CALDESC:Evenementen voor VV SJC
REFRESH-INTERVAL;VALUE=DURATION:PT1H
X-Robots-Tag:noindex
X-PUBLISHED-TTL:PT1H
BEGIN:VTIMEZONE
TZID:Europe/Amsterdam
BEGIN:DAYLIGHT
TZOFFSETFROM:+0100
TZOFFSETTO:+0200
TZNAME:CEST
DTSTART:20230326T010000
END:DAYLIGHT
BEGIN:STANDARD
TZOFFSETFROM:+0200
TZOFFSETTO:+0100
TZNAME:CET
DTSTART:20231029T010000
END:STANDARD
BEGIN:DAYLIGHT
TZOFFSETFROM:+0100
TZOFFSETTO:+0200
TZNAME:CEST
DTSTART:20240331T010000
END:DAYLIGHT
BEGIN:STANDARD
TZOFFSETFROM:+0200
TZOFFSETTO:+0100
TZNAME:CET
DTSTART:20241027T010000
END:STANDARD
BEGIN:DAYLIGHT
TZOFFSETFROM:+0100
TZOFFSETTO:+0200
TZNAME:CEST
DTSTART:20250330T010000
END:DAYLIGHT
BEGIN:STANDARD
TZOFFSETFROM:+0200
TZOFFSETTO:+0100
TZNAME:CET
DTSTART:20251026T010000
END:STANDARD
END:VTIMEZONE
BEGIN:VEVENT
DTSTART;TZID=Europe/Amsterdam:20241006T130000
DTEND;TZID=Europe/Amsterdam:20241006T130000
DTSTAMP:20260420T150204
CREATED:20240911T174250Z
LAST-MODIFIED:20240911T174250Z
UID:3640-1728219600-1728219600@vvsjc.nl
SUMMARY:SJC 1 - Purmersteijn 1
DESCRIPTION:
URL:https://vvsjc.nl/event/sjc-1-purmersteijn-1/
END:VEVENT
BEGIN:VEVENT
DTSTART;TZID=Europe/Amsterdam:20241012T133000
DTEND;TZID=Europe/Amsterdam:20241012T133000
DTSTAMP:20260420T150204
CREATED:20240911T174332Z
LAST-MODIFIED:20240911T174927Z
UID:3642-1728739800-1728739800@vvsjc.nl
SUMMARY:VVOG 1 - SJC 1
DESCRIPTION:
URL:https://vvsjc.nl/event/vvog-1-sjc-1/
END:VEVENT
BEGIN:VEVENT
DTSTART;TZID=Europe/Amsterdam:20241014T190000
DTEND;TZID=Europe/Amsterdam:20241014T190000
DTSTAMP:20260420T150204
CREATED:20240911T175115Z
LAST-MODIFIED:20240911T175115Z
UID:3653-1728932400-1728932400@vvsjc.nl
SUMMARY:Bestuursvergadering
DESCRIPTION:
URL:https://vvsjc.nl/event/bestuursvergadering-2/
LOCATION:SJC
END:VEVENT
BEGIN:VEVENT
DTSTART;TZID=Europe/Amsterdam:20241019T133000
DTEND;TZID=Europe/Amsterdam:20241019T133000
DTSTAMP:20260420T150204
CREATED:20240911T174420Z
LAST-MODIFIED:20240911T174655Z
UID:3644-1729344600-1729344600@vvsjc.nl
SUMMARY:SJC 1 - Odin 59 1
DESCRIPTION:
URL:https://vvsjc.nl/event/sjc-1-odin-59-1/
END:VEVENT
BEGIN:VEVENT
DTSTART;TZID=Europe/Amsterdam:20241025T183000
DTEND;TZID=Europe/Amsterdam:20241025T183000
DTSTAMP:20260420T150204
CREATED:20240907T110700Z
LAST-MODIFIED:20240907T110700Z
UID:3076-1729881000-1729881000@vvsjc.nl
SUMMARY:Klaverjassen en pokeren
DESCRIPTION:
URL:https://vvsjc.nl/event/klaverjassen-en-pokeren-2/
END:VEVENT
BEGIN:VEVENT
DTSTART;VALUE=DATE:20241025
DTEND;VALUE=DATE:20241104
DTSTAMP:20260420T150204
CREATED:20240911T175218Z
LAST-MODIFIED:20240911T175218Z
UID:3655-1729897200-1730674799@vvsjc.nl
SUMMARY:Herfstvakantie
DESCRIPTION:
URL:https://vvsjc.nl/event/herfstvakantie/
END:VEVENT
END:VCALENDAR