BEGIN:VCALENDAR
VERSION:2.0
PRODID:-//VV SJC - ECPv6.15.20//NONSGML v1.0//EN
CALSCALE:GREGORIAN
METHOD:PUBLISH
X-WR-CALNAME:VV SJC
X-ORIGINAL-URL:https://vvsjc.nl
X-WR-CALDESC:Evenementen voor VV SJC
REFRESH-INTERVAL;VALUE=DURATION:PT1H
X-Robots-Tag:noindex
X-PUBLISHED-TTL:PT1H
BEGIN:VTIMEZONE
TZID:Europe/Amsterdam
BEGIN:DAYLIGHT
TZOFFSETFROM:+0100
TZOFFSETTO:+0200
TZNAME:CEST
DTSTART:20230326T010000
END:DAYLIGHT
BEGIN:STANDARD
TZOFFSETFROM:+0200
TZOFFSETTO:+0100
TZNAME:CET
DTSTART:20231029T010000
END:STANDARD
BEGIN:DAYLIGHT
TZOFFSETFROM:+0100
TZOFFSETTO:+0200
TZNAME:CEST
DTSTART:20240331T010000
END:DAYLIGHT
BEGIN:STANDARD
TZOFFSETFROM:+0200
TZOFFSETTO:+0100
TZNAME:CET
DTSTART:20241027T010000
END:STANDARD
BEGIN:DAYLIGHT
TZOFFSETFROM:+0100
TZOFFSETTO:+0200
TZNAME:CEST
DTSTART:20250330T010000
END:DAYLIGHT
BEGIN:STANDARD
TZOFFSETFROM:+0200
TZOFFSETTO:+0100
TZNAME:CET
DTSTART:20251026T010000
END:STANDARD
BEGIN:DAYLIGHT
TZOFFSETFROM:+0100
TZOFFSETTO:+0200
TZNAME:CEST
DTSTART:20260329T010000
END:DAYLIGHT
BEGIN:STANDARD
TZOFFSETFROM:+0200
TZOFFSETTO:+0100
TZNAME:CET
DTSTART:20261025T010000
END:STANDARD
END:VTIMEZONE
BEGIN:VEVENT
DTSTART;VALUE=DATE:20251029
DTEND;VALUE=DATE:20251030
DTSTAMP:20260419T202607
CREATED:20250819T093036Z
LAST-MODIFIED:20250819T094043Z
UID:5864-1761696000-1761782399@vvsjc.nl
SUMMARY:Halloween training -  Ukkies & Toppers
DESCRIPTION:
URL:https://vvsjc.nl/event/halloween-training-ukkies-toppers/
LOCATION:SJC
END:VEVENT
BEGIN:VEVENT
DTSTART;TZID=Europe/Amsterdam:20251023T090000
DTEND;TZID=Europe/Amsterdam:20251023T160000
DTSTAMP:20260419T202607
CREATED:20250923T100936Z
LAST-MODIFIED:20250923T100936Z
UID:6105-1761210000-1761235200@vvsjc.nl
SUMMARY:S.J.C. Voetbaldagen
DESCRIPTION:
URL:https://vvsjc.nl/event/s-j-c-voetbaldagen-2/
LOCATION:SJC
END:VEVENT
BEGIN:VEVENT
DTSTART;TZID=Europe/Amsterdam:20251022T090000
DTEND;TZID=Europe/Amsterdam:20251022T160000
DTSTAMP:20260419T202607
CREATED:20250923T100802Z
LAST-MODIFIED:20250923T100802Z
UID:6103-1761123600-1761148800@vvsjc.nl
SUMMARY:S.J.C. Voetbaldagen
DESCRIPTION:
URL:https://vvsjc.nl/event/s-j-c-voetbaldagen/
LOCATION:SJC
END:VEVENT
BEGIN:VEVENT
DTSTART;TZID=Europe/Amsterdam:20251016T201500
DTEND;TZID=Europe/Amsterdam:20251016T220000
DTSTAMP:20260419T202607
CREATED:20251015T075330Z
LAST-MODIFIED:20251015T075330Z
UID:6242-1760645700-1760652000@vvsjc.nl
SUMMARY:S.J.C. - Hilligersberg (Beker)
DESCRIPTION:
URL:https://vvsjc.nl/event/s-j-c-hilligersberg-beker/
LOCATION:SJC
END:VEVENT
BEGIN:VEVENT
DTSTART;TZID=Europe/Amsterdam:20251012T140000
DTEND;TZID=Europe/Amsterdam:20251012T180000
DTSTAMP:20260419T202607
CREATED:20250819T092902Z
LAST-MODIFIED:20250819T092902Z
UID:5862-1760277600-1760292000@vvsjc.nl
SUMMARY:S.J.C. - HBC Bestuursdienst: Kees W. / Wouter
DESCRIPTION:
URL:https://vvsjc.nl/event/s-j-c-hbc-bestuursdienst-kees-w-wouter/
LOCATION:SJC
END:VEVENT
BEGIN:VEVENT
DTSTART;TZID=Europe/Amsterdam:20251006T200000
DTEND;TZID=Europe/Amsterdam:20251006T230000
DTSTAMP:20260419T202607
CREATED:20250819T092623Z
LAST-MODIFIED:20250819T092623Z
UID:5854-1759780800-1759791600@vvsjc.nl
SUMMARY:Bestuursvergadering
DESCRIPTION:
URL:https://vvsjc.nl/event/bestuursvergadering-6/
LOCATION:SJC
END:VEVENT
BEGIN:VEVENT
DTSTART;TZID=Europe/Amsterdam:20250927T143000
DTEND;TZID=Europe/Amsterdam:20250927T183000
DTSTAMP:20260419T202607
CREATED:20250819T092255Z
LAST-MODIFIED:20250819T092255Z
UID:5850-1758983400-1758997800@vvsjc.nl
SUMMARY:S.J.C. - Aalsmeer Bestuursdienst: Bart / Jan
DESCRIPTION:
URL:https://vvsjc.nl/event/s-j-c-aalsmeer-bestuursdienst-bart-jan/
LOCATION:SJC
END:VEVENT
BEGIN:VEVENT
DTSTART;TZID=Europe/Amsterdam:20250913T143000
DTEND;TZID=Europe/Amsterdam:20250913T183000
DTSTAMP:20260419T202607
CREATED:20250819T092200Z
LAST-MODIFIED:20250819T092200Z
UID:5848-1757773800-1757788200@vvsjc.nl
SUMMARY:S.J.C. - AJAX (am.) Bestuursdienst: Harry / Rob
DESCRIPTION:
URL:https://vvsjc.nl/event/s-j-c-ajax-am-bestuursdienst-harry-rob/
LOCATION:SJC
END:VEVENT
BEGIN:VEVENT
DTSTART;TZID=Europe/Amsterdam:20250908T190000
DTEND;TZID=Europe/Amsterdam:20250908T210000
DTSTAMP:20260419T202607
CREATED:20250819T091929Z
LAST-MODIFIED:20250819T092001Z
UID:5846-1757358000-1757365200@vvsjc.nl
SUMMARY:Oranje O18 - Italië  Bestuursdienst: Jan / Kees W.
DESCRIPTION:
URL:https://vvsjc.nl/event/oranje-o18-italie-bestuursdienst-jan-kees-w/
LOCATION:SJC
END:VEVENT
BEGIN:VEVENT
DTSTART;TZID=Europe/Amsterdam:20250905T190000
DTEND;TZID=Europe/Amsterdam:20250905T210000
DTSTAMP:20260419T202607
CREATED:20250819T091821Z
LAST-MODIFIED:20250819T091821Z
UID:5844-1757098800-1757106000@vvsjc.nl
SUMMARY:Oranje O18 - USA O17 Bestuursdienst: Jan / Kees W.
DESCRIPTION:
URL:https://vvsjc.nl/event/oranje-o18-usa-o17-bestuursdienst-jan-kees-w/
LOCATION:SJC
END:VEVENT
BEGIN:VEVENT
DTSTART;TZID=Europe/Amsterdam:20250901T200000
DTEND;TZID=Europe/Amsterdam:20250901T230000
DTSTAMP:20260419T202607
CREATED:20250819T092552Z
LAST-MODIFIED:20250819T092552Z
UID:5852-1756756800-1756767600@vvsjc.nl
SUMMARY:Bestuursvergadering
DESCRIPTION:
URL:https://vvsjc.nl/event/bestuursvergadering-5/
LOCATION:SJC
END:VEVENT
BEGIN:VEVENT
DTSTART;TZID=Europe/Amsterdam:20250823T143000
DTEND;TZID=Europe/Amsterdam:20250823T183000
DTSTAMP:20260419T202607
CREATED:20250819T085204Z
LAST-MODIFIED:20250819T085307Z
UID:5837-1755959400-1755973800@vvsjc.nl
SUMMARY:S.J.C. - Odin Bestuursdienst: Jan / Kees B.
DESCRIPTION:
URL:https://vvsjc.nl/event/s-j-c-odin-bestuursdienst-jan-kees-b/
LOCATION:SJC
END:VEVENT
BEGIN:VEVENT
DTSTART;TZID=Europe/Amsterdam:20250819T200000
DTEND;TZID=Europe/Amsterdam:20250819T220000
DTSTAMP:20260419T202607
CREATED:20250819T085753Z
LAST-MODIFIED:20250819T085753Z
UID:5839-1755633600-1755640800@vvsjc.nl
SUMMARY:S.J.C. - Foreholte oefenwedstrijd
DESCRIPTION:
URL:https://vvsjc.nl/event/s-j-c-foreholte-oefenwedstrijd/
LOCATION:SJC
END:VEVENT
BEGIN:VEVENT
DTSTART;VALUE=DATE:20250710
DTEND;VALUE=DATE:20250714
DTSTAMP:20260419T202607
CREATED:20250225T160445Z
LAST-MODIFIED:20250225T160445Z
UID:4833-1752188400-1752447599@vvsjc.nl
SUMMARY:Kamp JO12/13
DESCRIPTION:
URL:https://vvsjc.nl/event/kamp-jo12-13/
LOCATION:SJC
END:VEVENT
BEGIN:VEVENT
DTSTART;VALUE=DATE:20250703
DTEND;VALUE=DATE:20250707
DTSTAMP:20260419T202607
CREATED:20250225T160402Z
LAST-MODIFIED:20250225T160402Z
UID:4831-1751583600-1751842799@vvsjc.nl
SUMMARY:Kamp JO10/11
DESCRIPTION:
URL:https://vvsjc.nl/event/kamp-jo10-11/
LOCATION:SJC
END:VEVENT
BEGIN:VEVENT
DTSTART;VALUE=DATE:20250627
DTEND;VALUE=DATE:20250630
DTSTAMP:20260419T202607
CREATED:20250225T160243Z
LAST-MODIFIED:20250225T160243Z
UID:4829-1751065200-1751237999@vvsjc.nl
SUMMARY:Snurkfestijn
DESCRIPTION:
URL:https://vvsjc.nl/event/snurkfestijn/
LOCATION:SJC
END:VEVENT
BEGIN:VEVENT
DTSTART;TZID=Europe/Amsterdam:20250621T140000
DTEND;TZID=Europe/Amsterdam:20250621T190000
DTSTAMP:20260419T202607
CREATED:20250225T160145Z
LAST-MODIFIED:20250225T160145Z
UID:4827-1750514400-1750532400@vvsjc.nl
SUMMARY:S.J.C. festival!
DESCRIPTION:
URL:https://vvsjc.nl/event/s-j-c-festival/
LOCATION:SJC
END:VEVENT
BEGIN:VEVENT
DTSTART;TZID=Europe/Amsterdam:20250619T200000
DTEND;TZID=Europe/Amsterdam:20250619T220000
DTSTAMP:20260419T202607
CREATED:20250327T103952Z
LAST-MODIFIED:20250327T103952Z
UID:4959-1750363200-1750370400@vvsjc.nl
SUMMARY:Algemene Ledenvergadering
DESCRIPTION:
URL:https://vvsjc.nl/event/algemene-ledenvergadering/
LOCATION:SJC
END:VEVENT
BEGIN:VEVENT
DTSTART;TZID=Europe/Amsterdam:20250618T110000
DTEND;TZID=Europe/Amsterdam:20250618T190000
DTSTAMP:20260419T202607
CREATED:20250202T111153Z
LAST-MODIFIED:20250202T111153Z
UID:4691-1750244400-1750273200@vvsjc.nl
SUMMARY:4 tegen 4 toernooi
DESCRIPTION:
URL:https://vvsjc.nl/event/4-tegen-4-toernooi/
LOCATION:SJC
END:VEVENT
BEGIN:VEVENT
DTSTART;VALUE=DATE:20250606
DTEND;VALUE=DATE:20250608
DTSTAMP:20260419T202607
CREATED:20250225T160027Z
LAST-MODIFIED:20250225T160027Z
UID:4825-1749250800-1749337199@vvsjc.nl
SUMMARY:Vriendjesdag
DESCRIPTION:
URL:https://vvsjc.nl/event/vriendjesdag/
LOCATION:SJC
END:VEVENT
BEGIN:VEVENT
DTSTART;TZID=Europe/Amsterdam:20250517T170000
DTEND;TZID=Europe/Amsterdam:20250517T190000
DTSTAMP:20260419T202607
CREATED:20250225T161040Z
LAST-MODIFIED:20250225T161040Z
UID:4837-1747501200-1747508400@vvsjc.nl
SUMMARY:Optreden Sven Versteeg
DESCRIPTION:
URL:https://vvsjc.nl/event/optreden-sven-versteeg/
LOCATION:SJC
END:VEVENT
BEGIN:VEVENT
DTSTART;TZID=Europe/Amsterdam:20250419T130000
DTEND;TZID=Europe/Amsterdam:20250419T235900
DTSTAMP:20260419T202607
CREATED:20250225T155935Z
LAST-MODIFIED:20250327T103823Z
UID:4823-1745067600-1745107140@vvsjc.nl
SUMMARY:Jeugdinterland Oranje
DESCRIPTION:
URL:https://vvsjc.nl/event/jeugdinterland-oranje-2/
LOCATION:SJC
END:VEVENT
BEGIN:VEVENT
DTSTART;TZID=Europe/Amsterdam:20250416T190000
DTEND;TZID=Europe/Amsterdam:20250416T235900
DTSTAMP:20260419T202607
CREATED:20250225T155900Z
LAST-MODIFIED:20250327T103728Z
UID:4821-1744830000-1744847940@vvsjc.nl
SUMMARY:Jeugdinterland Oranje
DESCRIPTION:
URL:https://vvsjc.nl/event/jeugdinterland-oranje/
LOCATION:SJC
END:VEVENT
BEGIN:VEVENT
DTSTART;TZID=Europe/Amsterdam:20250416T130000
DTEND;TZID=Europe/Amsterdam:20250416T170000
DTSTAMP:20260419T202607
CREATED:20250413T091637Z
LAST-MODIFIED:20250413T091637Z
UID:5072-1744808400-1744822800@vvsjc.nl
SUMMARY:Schoolvoetbaltoernooi Meisjes
DESCRIPTION:Schoolvoetbaltoernooi Meisjes
URL:https://vvsjc.nl/event/schoolvoetbaltoernooi-meisjes/
END:VEVENT
BEGIN:VEVENT
DTSTART;TZID=Europe/Amsterdam:20250405T163000
DTEND;TZID=Europe/Amsterdam:20250405T190000
DTSTAMP:20260419T202607
CREATED:20250327T104210Z
LAST-MODIFIED:20250327T104210Z
UID:4961-1743870600-1743879600@vvsjc.nl
SUMMARY:Optreden Right Behind
DESCRIPTION:
URL:https://vvsjc.nl/event/optreden-right-behind/
LOCATION:SJC
END:VEVENT
BEGIN:VEVENT
DTSTART;TZID=Europe/Amsterdam:20250321T180000
DTEND;TZID=Europe/Amsterdam:20250321T223000
DTSTAMP:20260419T202607
CREATED:20241127T201846Z
LAST-MODIFIED:20241127T202255Z
UID:4392-1742580000-1742596200@vvsjc.nl
SUMMARY:Lente-avond
DESCRIPTION:
URL:https://vvsjc.nl/event/lente-avond/
LOCATION:SJC
END:VEVENT
BEGIN:VEVENT
DTSTART;TZID=Europe/Amsterdam:20250315T150000
DTEND;TZID=Europe/Amsterdam:20250315T190000
DTSTAMP:20260419T202607
CREATED:20250225T160944Z
LAST-MODIFIED:20250225T160944Z
UID:4835-1742050800-1742065200@vvsjc.nl
SUMMARY:Noortukse middag
DESCRIPTION:
URL:https://vvsjc.nl/event/noortukse-middag/
LOCATION:SJC
END:VEVENT
BEGIN:VEVENT
DTSTART;TZID=Europe/Amsterdam:20250301T140000
DTEND;TZID=Europe/Amsterdam:20250301T170000
DTSTAMP:20260419T202607
CREATED:20250225T155620Z
LAST-MODIFIED:20250225T155620Z
UID:4819-1740837600-1740848400@vvsjc.nl
SUMMARY:Jeugdcarnaval
DESCRIPTION:
URL:https://vvsjc.nl/event/jeugdcarnaval/
LOCATION:SJC
END:VEVENT
BEGIN:VEVENT
DTSTART;TZID=Europe/Amsterdam:20250221T180000
DTEND;TZID=Europe/Amsterdam:20250221T223000
DTSTAMP:20260419T202607
CREATED:20241127T202413Z
LAST-MODIFIED:20241127T202413Z
UID:4397-1740160800-1740177000@vvsjc.nl
SUMMARY:jongens SJC koken voor SJC
DESCRIPTION:
URL:https://vvsjc.nl/event/jongens-sjc-koken-voor-sjc/
LOCATION:SJC
END:VEVENT
BEGIN:VEVENT
DTSTART;TZID=Europe/Amsterdam:20241231T110000
DTEND;TZID=Europe/Amsterdam:20241231T130000
DTSTAMP:20260419T202607
CREATED:20240907T110828Z
LAST-MODIFIED:20241020T145828Z
UID:3082-1735642800-1735650000@vvsjc.nl
SUMMARY:Oliebollenkaarten
DESCRIPTION:
URL:https://vvsjc.nl/event/oliebollenkaarten/
END:VEVENT
END:VCALENDAR